BEGIN:VCALENDAR
VERSION:2.0
PRODID:-//wp-events-plugin.com//7.0.4//EN
TZID:America/New_York
X-WR-TIMEZONE:America/New_York
BEGIN:VEVENT
UID:10@pesid.com
DTSTART;TZID=America/New_York:20130725T173000
DTEND;TZID=America/New_York:20130725T193000
DTSTAMP:20131004T003920Z
URL:https://pesid.com/pesid-events/staten-island-network-and-develop-resou
 rces-for-seniors/
SUMMARY:Staten Island Network and Develop Resources for Seniors 
DESCRIPTION:Join us at the Esplanade for Appetizers\, and Networking to dev
 elop resources for seniors and their families.\n\nOur thanks to our Sponso
 r the Esplanade\, and Director of Community Outreach\, Patrice Ficco.\n\n&
 nbsp\;\n\nCorporate Sponsors:  Fort Funding Corp.\, Golden Maturity Inc.\
 n\n&nbsp\;\n\nAnnette Fisher\n\nPESID Founder\n\n347-291-7479\n\n&nbsp\;
CATEGORIES:PESID Staten Island
LOCATION:Esplanade\,  1415 Richmond Ave \, Staten Island\, NY\, 10314\, Uni
 ted States
GEO:40.6134805;-74.15764939999997
X-APPLE-STRUCTURED-LOCATION;VALUE=URI;X-ADDRESS= 1415 Richmond Ave \, State
 n Island\, NY\, 10314\, United States;X-APPLE-RADIUS=100;X-TITLE=Esplanade
 :geo:40.6134805,-74.15764939999997
END:VEVENT
BEGIN:VTIMEZONE
TZID:America/New_York
X-LIC-LOCATION:America/New_York
BEGIN:DAYLIGHT
DTSTART:20130310T030000
TZOFFSETFROM:-0500
TZOFFSETTO:-0400
TZNAME:EDT
END:DAYLIGHT
END:VTIMEZONE
END:VCALENDAR