BEGIN:VCALENDAR
VERSION:2.0
PRODID:-//wp-events-plugin.com//7.0.4//EN
TZID:America/New_York
X-WR-TIMEZONE:America/New_York
BEGIN:VEVENT
UID:56@pesid.com
DTSTART;TZID=America/New_York:20241120T090000
DTEND;TZID=America/New_York:20241120T120000
DTSTAMP:20241107T082509Z
URL:https://pesid.com/pesid-events/seniors-aging-in-place-proxies-plans/
SUMMARY:Seniors Aging In Place -Proxies & Plans
DESCRIPTION:PESID Senior Resources\, Networking\, 2 CE credits for Social W
 orkers.  Aging In Place - Proxies & Plans
CATEGORIES:PESID Brooklyn
LOCATION:Sunrise Senior Living\, 2211 Emmons Avenue\, Brooklyn\, NY\, 11224
 \, United States
GEO:40.5841679;-73.94597390000001
X-APPLE-STRUCTURED-LOCATION;VALUE=URI;X-ADDRESS=2211 Emmons Avenue\, Brookl
 yn\, NY\, 11224\, United States;X-APPLE-RADIUS=100;X-TITLE=Sunrise Senior 
 Living:geo:40.5841679,-73.94597390000001
END:VEVENT
BEGIN:VTIMEZONE
TZID:America/New_York
X-LIC-LOCATION:America/New_York
BEGIN:STANDARD
DTSTART:20241103T010000
TZOFFSETFROM:-0400
TZOFFSETTO:-0500
TZNAME:EST
END:STANDARD
END:VTIMEZONE
END:VCALENDAR