BEGIN:VCALENDAR
VERSION:2.0
PRODID:-//wp-events-plugin.com//7.0.4//EN
TZID:America/New_York
X-WR-TIMEZONE:America/New_York
BEGIN:VEVENT
UID:43@pesid.com
DTSTART;TZID=America/New_York:20171005T180000
DTEND;TZID=America/New_York:20171005T200000
DTSTAMP:20171005T155242Z
URL:https://pesid.com/pesid-events/senior-resources-speed-networking-pesid
 /
SUMMARY:Senior Resources with PESID members speed neetowrking
DESCRIPTION:Senior Resources PESID meeting
CATEGORIES:PESID Brooklyn
LOCATION:Sunrise Senior Living Mill Basin\, 5905 Strickland Avenue\, Brookl
 yn\, New York\, United States
GEO:40.607952;-73.91629999999998
X-APPLE-STRUCTURED-LOCATION;VALUE=URI;X-ADDRESS=5905 Strickland Avenue\, Br
 ooklyn\, New York\, United States;X-APPLE-RADIUS=100;X-TITLE=Sunrise Senio
 r Living Mill Basin:geo:40.607952,-73.91629999999998
END:VEVENT
BEGIN:VTIMEZONE
TZID:America/New_York
X-LIC-LOCATION:America/New_York
BEGIN:DAYLIGHT
DTSTART:20170312T030000
TZOFFSETFROM:-0500
TZOFFSETTO:-0400
TZNAME:EDT
END:DAYLIGHT
END:VTIMEZONE
END:VCALENDAR