BEGIN:VCALENDAR
VERSION:2.0
PRODID:-//wp-events-plugin.com//7.0.4//EN
TZID:America/New_York
X-WR-TIMEZONE:America/New_York
BEGIN:VEVENT
UID:12@pesid.com
DTSTART;TZID=America/New_York:20131114T100000
DTEND;TZID=America/New_York:20131114T130000
DTSTAMP:20131108T201541Z
URL:https://pesid.com/pesid-events/senior-health-expo-financial-fitness-ex
 po/
SUMMARY:PESID Brooklyn Senior Health Expo & Financial Fitness Expo
DESCRIPTION:A Don't Miss Event! FREE Admission\, Over 30 Exhibitors\, Coffe
 e Cake & more.
CATEGORIES:PESID Brooklyn
LOCATION:Dyker Beach Golf Course Grand Ballroom\, 1030 86th Street\, Brookl
 yn\, NY\, 11217\, United States
GEO:40.616748;-74.01838850000001
X-APPLE-STRUCTURED-LOCATION;VALUE=URI;X-ADDRESS=1030 86th Street\, Brooklyn
 \, NY\, 11217\, United States;X-APPLE-RADIUS=100;X-TITLE=Dyker Beach Golf 
 Course Grand Ballroom:geo:40.616748,-74.01838850000001
END:VEVENT
BEGIN:VTIMEZONE
TZID:America/New_York
X-LIC-LOCATION:America/New_York
BEGIN:STANDARD
DTSTART:20131103T010000
TZOFFSETFROM:-0400
TZOFFSETTO:-0500
TZNAME:EST
END:STANDARD
END:VTIMEZONE
END:VCALENDAR