BEGIN:VCALENDAR
VERSION:2.0
PRODID:-//wp-events-plugin.com//7.0.4//EN
TZID:America/New_York
X-WR-TIMEZONE:America/New_York
BEGIN:VEVENT
UID:29@pesid.com
DTSTART;TZID=America/New_York:20140914T110000
DTEND;TZID=America/New_York:20140914T160000
DTSTAMP:20140808T210317Z
URL:https://pesid.com/pesid-events/queens-health-beauty-and-financial-expo
 /
SUMMARY:PESID Queens Event Health Beauty and Financial Expo
DESCRIPTION:PESID\, Queens Event Health Beauty and Financial Expo is a fant
 astic event for the entire family
CATEGORIES:PESID Queens
LOCATION:New York Hall of Science\, 47-01 111th Street\, Corona\, NY\, 1136
 8\, United States
GEO:40.7471762;-73.85143019999998
X-APPLE-STRUCTURED-LOCATION;VALUE=URI;X-ADDRESS=47-01 111th Street\, Corona
 \, NY\, 11368\, United States;X-APPLE-RADIUS=100;X-TITLE=New York Hall of 
 Science:geo:40.7471762,-73.85143019999998
END:VEVENT
BEGIN:VTIMEZONE
TZID:America/New_York
X-LIC-LOCATION:America/New_York
BEGIN:DAYLIGHT
DTSTART:20140309T030000
TZOFFSETFROM:-0500
TZOFFSETTO:-0400
TZNAME:EDT
END:DAYLIGHT
END:VTIMEZONE
END:VCALENDAR