BEGIN:VCALENDAR
VERSION:2.0
PRODID:-//wp-events-plugin.com//7.0.4//EN
TZID:America/New_York
X-WR-TIMEZONE:America/New_York
BEGIN:VEVENT
UID:4@pesid.com
DTSTART;TZID=America/New_York:20120313T173000
DTEND;TZID=America/New_York:20120313T200000
DTSTAMP:20131008T014507Z
URL:https://pesid.com/pesid-events/pesids-celebrate-2nd-year-anniversary-p
 arty-with-entertainment/
SUMMARY:PESIDs Celebrate 2nd Year Anniversary\, Party with Entertainment 
DESCRIPTION:When you RSVP please don't forget to read the question section.
 This is a free event as long as you RSVP @ pesid.com\, otherwise the fee w
 ill be $25.00 at the door. Sorry no exceptions. If you're having trouble r
 egistering you can give me\, Annette Fisher\, a call for help @ 347-291-74
 79\n\n
ATTACH;FMTTYPE=image/jpeg:https://pesid.com/wp-content/uploads/2013/09/SDC
 11415r.jpg
CATEGORIES:PESID Brooklyn
LOCATION:Gold Coast Delicatessen Restaurant & Bar\, 3rd Avenue &amp\; 86th 
 Street\, Brooklyn\, NY\, United States
GEO:40.623464;-74.03106980000001
X-APPLE-STRUCTURED-LOCATION;VALUE=URI;X-ADDRESS=3rd Avenue & 86th Street\, 
 Brooklyn\, NY\, United States;X-APPLE-RADIUS=100;X-TITLE=Gold Coast Delica
 tessen Restaurant & Bar:geo:40.623464,-74.03106980000001
END:VEVENT
BEGIN:VTIMEZONE
TZID:America/New_York
X-LIC-LOCATION:America/New_York
BEGIN:DAYLIGHT
DTSTART:20120311T030000
TZOFFSETFROM:-0500
TZOFFSETTO:-0400
TZNAME:EDT
END:DAYLIGHT
END:VTIMEZONE
END:VCALENDAR