BEGIN:VCALENDAR
VERSION:2.0
PRODID:-//wp-events-plugin.com//7.0.4//EN
TZID:America/New_York
X-WR-TIMEZONE:America/New_York
BEGIN:VEVENT
UID:46@pesid.com
DTSTART;TZID=America/New_York:20180621T173000
DTEND;TZID=America/New_York:20180621T203000
DTSTAMP:20180501T164610Z
URL:https://pesid.com/pesid-events/pesid-summer-kickoff-bash/
SUMMARY:PESID\, Summer Kickoff Bash
DESCRIPTION:PESID\, People Empowering Seniors Independence & Dignity\, Summ
 er Kickoff Bash.  Have fun while developing resources for seniors.
CATEGORIES:PESID Brooklyn
LOCATION:Sunrise Senior Living Sheepshead Bay\, 2211 Emmons Avenue\, Brookl
 yn\, NY\, 11235\, United States
GEO:40.58394089999999;-73.9458502
X-APPLE-STRUCTURED-LOCATION;VALUE=URI;X-ADDRESS=2211 Emmons Avenue\, Brookl
 yn\, NY\, 11235\, United States;X-APPLE-RADIUS=100;X-TITLE=Sunrise Senior 
 Living Sheepshead Bay:geo:40.58394089999999,-73.9458502
END:VEVENT
BEGIN:VTIMEZONE
TZID:America/New_York
X-LIC-LOCATION:America/New_York
BEGIN:DAYLIGHT
DTSTART:20180311T030000
TZOFFSETFROM:-0500
TZOFFSETTO:-0400
TZNAME:EDT
END:DAYLIGHT
END:VTIMEZONE
END:VCALENDAR