BEGIN:VCALENDAR
VERSION:2.0
PRODID:-//wp-events-plugin.com//7.0.4//EN
TZID:America/New_York
X-WR-TIMEZONE:America/New_York
BEGIN:VEVENT
UID:24@pesid.com
DTSTART;TZID=America/New_York:20140313T173000
DTEND;TZID=America/New_York:20140313T193000
DTSTAMP:20140227T193733Z
URL:https://pesid.com/pesid-events/pesid-staten-island-taste-sunrise/
SUMMARY:PESID Staten Island - Taste of Sunrise
DESCRIPTION:Hello PESIDs\,\n\nWe hope you will join us for a Taste of Sunri
 se!\n\nYou’re invited to our Decadent Desserts Mixer\nThursday\, March 1
 3th 5:30 p.m.–7:30 p.m.\n\nCome experience our endless dessert options a
 nd delicious culinary creations of the Sunrise Signature Dining program. A
 lways fresh\, and tailored to our residents’ unique diets\, our daily me
 nus are something everyone looks forward to! And our dining environments e
 ncourage social interaction\nand nurture friendships. So while you’re he
 re\, take a tour of our beautiful community\, and see the many ways in whi
 ch we nourish our residents.\n\nEvent Host:  AnnMarie Mannino  Director 
 of Sales\n\n&nbsp\;\n\n&nbsp\;\n\n&nbsp\;
CATEGORIES:PESID Staten Island
LOCATION:Sunrise Senior Living\, 801 Narrows Road N\, Staten Island\, NY\, 
 10304\, United States
GEO:40.61148;-74.09511800000001
X-APPLE-STRUCTURED-LOCATION;VALUE=URI;X-ADDRESS=801 Narrows Road N\, Staten
  Island\, NY\, 10304\, United States;X-APPLE-RADIUS=100;X-TITLE=Sunrise Se
 nior Living:geo:40.61148,-74.09511800000001
END:VEVENT
BEGIN:VTIMEZONE
TZID:America/New_York
X-LIC-LOCATION:America/New_York
BEGIN:DAYLIGHT
DTSTART:20140309T030000
TZOFFSETFROM:-0500
TZOFFSETTO:-0400
TZNAME:EDT
END:DAYLIGHT
END:VTIMEZONE
END:VCALENDAR