BEGIN:VCALENDAR
VERSION:2.0
PRODID:-//wp-events-plugin.com//7.0.4//EN
TZID:America/New_York
X-WR-TIMEZONE:America/New_York
BEGIN:VEVENT
UID:20@pesid.com
DTSTART;TZID=America/New_York:20140129T173000
DTEND;TZID=America/New_York:20140129T193000
DTSTAMP:20140130T124659Z
URL:https://pesid.com/pesid-events/pesid-staten-island-sunrise-senior-livi
 ng/
SUMMARY:PESID Staten Island Sunrise Senior Living New Year Networking Party
  
DESCRIPTION:PESID Staten Island Sunrise Senior Living New Year Networking P
 arty 
ATTACH;FMTTYPE=image/jpeg:https://pesid.com/wp-content/uploads/2013/12/Sun
 rise-Senior-Living-Sheepshead-Bay.jpg
CATEGORIES:PESID Staten Island
LOCATION:Sunrise Senior Living\, 801 Narrows Road N\, Staten Island\, NY\, 
 10304\, United States
GEO:40.61148;-74.09511800000001
X-APPLE-STRUCTURED-LOCATION;VALUE=URI;X-ADDRESS=801 Narrows Road N\, Staten
  Island\, NY\, 10304\, United States;X-APPLE-RADIUS=100;X-TITLE=Sunrise Se
 nior Living:geo:40.61148,-74.09511800000001
END:VEVENT
BEGIN:VTIMEZONE
TZID:America/New_York
X-LIC-LOCATION:America/New_York
BEGIN:STANDARD
DTSTART:20131103T010000
TZOFFSETFROM:-0400
TZOFFSETTO:-0500
TZNAME:EST
END:STANDARD
END:VTIMEZONE
END:VCALENDAR