BEGIN:VCALENDAR
VERSION:2.0
PRODID:-//wp-events-plugin.com//7.0.4//EN
TZID:America/New_York
X-WR-TIMEZONE:America/New_York
BEGIN:VEVENT
UID:2@pesid.com
DTSTART;TZID=America/New_York:20130918T173000
DTEND;TZID=America/New_York:20130918T193000
DTSTAMP:20130914T201221Z
URL:https://pesid.com/pesid-events/pesid-staten-island-meet-political-offi
 cials-and-psychic-fun-with-janet-brennan/
SUMMARY:PESID Staten Island Dev. Senior Resources & Enjoy Psychic Fun with 
 Janet Brennan
DESCRIPTION:PESID\, People Empowering Seniors Independence & Dignity is hol
 ding a free networking event.
ATTACH;FMTTYPE=image/jpeg:https://pesid.com/wp-content/uploads/2013/08/8-2
 0-13-pesid-logo.jpg
CATEGORIES:PESID Staten Island
LOCATION:Z One\, 1821 Richmond Avenue\, Staten Island\, NY\, United States
GEO:40.604085;-74.16202299999998
X-APPLE-STRUCTURED-LOCATION;VALUE=URI;X-ADDRESS=1821 Richmond Avenue\, Stat
 en Island\, NY\, United States;X-APPLE-RADIUS=100;X-TITLE=Z One:geo:40.604
 085,-74.16202299999998
END:VEVENT
BEGIN:VTIMEZONE
TZID:America/New_York
X-LIC-LOCATION:America/New_York
BEGIN:DAYLIGHT
DTSTART:20130310T030000
TZOFFSETFROM:-0500
TZOFFSETTO:-0400
TZNAME:EDT
END:DAYLIGHT
END:VTIMEZONE
END:VCALENDAR