BEGIN:VCALENDAR
VERSION:2.0
PRODID:-//wp-events-plugin.com//7.0.4//EN
TZID:America/New_York
X-WR-TIMEZONE:America/New_York
BEGIN:VEVENT
UID:60@pesid.com
DTSTART;TZID=America/New_York:20250409T120000
DTEND;TZID=America/New_York:20250409T140000
DTSTAMP:20250320T135528Z
URL:https://pesid.com/pesid-events/pesid-senior-resources-networking-in-br
 ooklyn-4-9-25/
SUMMARY:PESID Senior Resources Networking In Brooklyn 4-9-25
DESCRIPTION:PESID Senior Resources Networking Luncheon.  Professionals who 
 serve  seniors get together to develop resources.
CATEGORIES:PESID,PESID Brooklyn,PESID Senior Resources Brooklyn NY
END:VEVENT
BEGIN:VTIMEZONE
TZID:America/New_York
X-LIC-LOCATION:America/New_York
BEGIN:DAYLIGHT
DTSTART:20250309T030000
TZOFFSETFROM:-0500
TZOFFSETTO:-0400
TZNAME:EDT
END:DAYLIGHT
END:VTIMEZONE
END:VCALENDAR