BEGIN:VCALENDAR
VERSION:2.0
PRODID:-//wp-events-plugin.com//7.0.4//EN
TZID:America/New_York
X-WR-TIMEZONE:America/New_York
BEGIN:VEVENT
UID:44@pesid.com
DTSTART;TZID=America/New_York:20180220T180000
DTEND;TZID=America/New_York:20180220T193000
DTSTAMP:20180220T214250Z
URL:https://pesid.com/pesid-events/pesid-networking-develop-resources-seni
 ors/
SUMMARY:PESID Networking to Develop Resources for Seniors
DESCRIPTION:PESID\, People Empowering Seniors Independence & Dignity.  Netw
 orking\, Seniors\, Senior Resources\, Networking\, Social Workers\, Attor
 neys\, Health Care\, Mortgages and more.
CATEGORIES:PESID Brooklyn
LOCATION:Cebu Bar & Bistro\, 8801 Third Avenue\, Brooklyn\, NY\, 11209\, Un
 ited States
GEO:40.6218995;-74.0314416
X-APPLE-STRUCTURED-LOCATION;VALUE=URI;X-ADDRESS=8801 Third Avenue\, Brookly
 n\, NY\, 11209\, United States;X-APPLE-RADIUS=100;X-TITLE=Cebu Bar & Bistr
 o:geo:40.6218995,-74.0314416
END:VEVENT
BEGIN:VTIMEZONE
TZID:America/New_York
X-LIC-LOCATION:America/New_York
BEGIN:STANDARD
DTSTART:20171105T010000
TZOFFSETFROM:-0400
TZOFFSETTO:-0500
TZNAME:EST
END:STANDARD
END:VTIMEZONE
END:VCALENDAR