BEGIN:VCALENDAR
VERSION:2.0
PRODID:-//wp-events-plugin.com//7.0.4//EN
TZID:America/New_York
X-WR-TIMEZONE:America/New_York
BEGIN:VEVENT
UID:3@pesid.com
DTSTART;TZID=America/New_York:20130919T173000
DTEND;TZID=America/New_York:20130919T193000
DTSTAMP:20130904T124221Z
URL:https://pesid.com/pesid-events/pesid-nassau/
SUMMARY:PESID Nassau
DESCRIPTION:PESID Nassau meetings to network and develop resources for seni
 ors.
CATEGORIES:PESID Nassau
LOCATION:MacArthur Park\, 1 Maple Ave\, Rockville Centre\, NY\, United Stat
 es
GEO:40.6589315;-73.64489129999998
X-APPLE-STRUCTURED-LOCATION;VALUE=URI;X-ADDRESS=1 Maple Ave\, Rockville Cen
 tre\, NY\, United States;X-APPLE-RADIUS=100;X-TITLE=MacArthur Park:geo:40.
 6589315,-73.64489129999998
END:VEVENT
BEGIN:VTIMEZONE
TZID:America/New_York
X-LIC-LOCATION:America/New_York
BEGIN:DAYLIGHT
DTSTART:20130310T030000
TZOFFSETFROM:-0500
TZOFFSETTO:-0400
TZNAME:EDT
END:DAYLIGHT
END:VTIMEZONE
END:VCALENDAR