BEGIN:VCALENDAR
VERSION:2.0
PRODID:-//wp-events-plugin.com//7.0.4//EN
TZID:America/New_York
X-WR-TIMEZONE:America/New_York
BEGIN:VEVENT
UID:7@pesid.com
DTSTART;TZID=America/New_York:20131024T173000
DTEND;TZID=America/New_York:20131024T193000
DTSTAMP:20131005T163540Z
URL:https://pesid.com/pesid-events/pesid-nassau-network-and-develop-resour
 ces-for-seniors/
SUMMARY:PESID Nassau Network and Develop Resources for Seniors
DESCRIPTION:PESID Nassau meeting at Atria Lynbrook
CATEGORIES:PESID Nassau
LOCATION:Atria Lynbrook\, 100 Peninsula Blvd.\, Lynbrook\, NY\, Nassau\, Un
 ited States
GEO:40.6558243;-73.6776084
X-APPLE-STRUCTURED-LOCATION;VALUE=URI;X-ADDRESS=100 Peninsula Blvd.\, Lynbr
 ook\, NY\, Nassau\, United States;X-APPLE-RADIUS=100;X-TITLE=Atria Lynbroo
 k:geo:40.6558243,-73.6776084
END:VEVENT
BEGIN:VTIMEZONE
TZID:America/New_York
X-LIC-LOCATION:America/New_York
BEGIN:DAYLIGHT
DTSTART:20130310T030000
TZOFFSETFROM:-0500
TZOFFSETTO:-0400
TZNAME:EDT
END:DAYLIGHT
END:VTIMEZONE
END:VCALENDAR