BEGIN:VCALENDAR
VERSION:2.0
PRODID:-//wp-events-plugin.com//7.0.4//EN
TZID:America/New_York
X-WR-TIMEZONE:America/New_York
BEGIN:VEVENT
UID:14@pesid.com
DTSTART;TZID=America/New_York:20131121T173000
DTEND;TZID=America/New_York:20131121T193000
DTSTAMP:20131124T022206Z
URL:https://pesid.com/pesid-events/pesid-nassau-network-and-develop-resour
 ces-for-seniors-3/
SUMMARY:PESID Nassau Network and Develop Resources for Seniors
DESCRIPTION:PESID Nassau\, is meeting at Atria Lynbrook to Network and Deve
 lop Resource for Seniors.  Our last meeting had many folks who showed up a
 nd had not RSVP.  Please remember to RSVP.
CATEGORIES:PESID Nassau
LOCATION:Atria Lynbrook\, 100 Peninsula Blvd.\, Lynbrook\, NY\, Nassau\, Un
 ited States
GEO:40.6558243;-73.6776084
X-APPLE-STRUCTURED-LOCATION;VALUE=URI;X-ADDRESS=100 Peninsula Blvd.\, Lynbr
 ook\, NY\, Nassau\, United States;X-APPLE-RADIUS=100;X-TITLE=Atria Lynbroo
 k:geo:40.6558243,-73.6776084
END:VEVENT
BEGIN:VTIMEZONE
TZID:America/New_York
X-LIC-LOCATION:America/New_York
BEGIN:STANDARD
DTSTART:20131103T010000
TZOFFSETFROM:-0400
TZOFFSETTO:-0500
TZNAME:EST
END:STANDARD
END:VTIMEZONE
END:VCALENDAR