BEGIN:VCALENDAR
VERSION:2.0
PRODID:-//wp-events-plugin.com//7.0.4//EN
TZID:America/New_York
X-WR-TIMEZONE:America/New_York
BEGIN:VEVENT
UID:9@pesid.com
DTSTART;TZID=America/New_York:20130815T173000
DTEND;TZID=America/New_York:20130815T193000
DTSTAMP:20131008T000639Z
URL:https://pesid.com/pesid-events/pesid-nassau-network-and-develop-resour
 ces-for-seniors-2/
SUMMARY:PESID Nassau Network and Develop Resources for Seniors 
DESCRIPTION:Join us to Network and Develop Resources for Seniors\, while ha
 ving some laughs.\n\nAppetizers and Cocktails for this meeting are sponsor
 ed by:\n\nMichelle Grome\n\nCaring People Inc.\n\nAnthony Sarni\n\nGutterm
 ans Inc.\nPESID Founder\nAnnette Fisher\, CSA\n\nCertified Senior Advisor\
 n\nReverse Mortgage Specialist\n\nNMLS 67606 NJ\n347-291-7479\n\nPESID Cor
 porate Sponsors\, Annette Fisher\, Golden Maturity Inc. and  Fort Funding
  Corp.  718-968-5242\n\n\n\n&nbsp\;\n\n
CATEGORIES:PESID Nassau
LOCATION:American Social Kitchen & Cocktails\, 4225 Merrick Rd\, Massapeque
 \, NY\, 11758\, United States
GEO:40.66703200000001;-73.47696100000002
X-APPLE-STRUCTURED-LOCATION;VALUE=URI;X-ADDRESS=4225 Merrick Rd\, Massapequ
 e\, NY\, 11758\, United States;X-APPLE-RADIUS=100;X-TITLE=American Social 
 Kitchen & Cocktails:geo:40.66703200000001,-73.47696100000002
END:VEVENT
BEGIN:VTIMEZONE
TZID:America/New_York
X-LIC-LOCATION:America/New_York
BEGIN:DAYLIGHT
DTSTART:20130310T030000
TZOFFSETFROM:-0500
TZOFFSETTO:-0400
TZNAME:EDT
END:DAYLIGHT
END:VTIMEZONE
END:VCALENDAR