BEGIN:VCALENDAR
VERSION:2.0
PRODID:-//wp-events-plugin.com//7.0.4//EN
TZID:America/New_York
X-WR-TIMEZONE:America/New_York
BEGIN:VEVENT
UID:17@pesid.com
DTSTART;TZID=America/New_York:20140130T173000
DTEND;TZID=America/New_York:20140130T193000
DTSTAMP:20140107T191807Z
URL:https://pesid.com/pesid-events/pesid-nassau-county-network-fun/
SUMMARY:PESID Nassau County\, Network and Have Fun At It!
DESCRIPTION:Enjoy an evening of Networking with Friends and Colleagues\n\nW
 e are honored to have Mary Constantino at Atria Lynbrook\, Sponsor Our Jan
 uary Nassau County meeting\n\n\n\nCome out and have some laughs while netw
 orking.\n\nI’m looking forward to seeing you all there.\n\nComplimentary
  Appetizers and wine.\n\nIf you do not RSVP online at pesid.com then there
  is a $10 meeting fee per person.\n\nThank you\n\nAnnette Fisher\, CSA\n\n
 Certified Senior Advisor\n\nPESID Founder\n\n347-291-7479
CATEGORIES:PESID Nassau
LOCATION:Atria Lynbrook\, 100 Peninsula Blvd.\, Lynbrook\, NY\, Nassau\, Un
 ited States
GEO:40.6558243;-73.6776084
X-APPLE-STRUCTURED-LOCATION;VALUE=URI;X-ADDRESS=100 Peninsula Blvd.\, Lynbr
 ook\, NY\, Nassau\, United States;X-APPLE-RADIUS=100;X-TITLE=Atria Lynbroo
 k:geo:40.6558243,-73.6776084
END:VEVENT
BEGIN:VTIMEZONE
TZID:America/New_York
X-LIC-LOCATION:America/New_York
BEGIN:STANDARD
DTSTART:20131103T010000
TZOFFSETFROM:-0400
TZOFFSETTO:-0500
TZNAME:EST
END:STANDARD
END:VTIMEZONE
END:VCALENDAR