BEGIN:VCALENDAR
VERSION:2.0
PRODID:-//wp-events-plugin.com//7.0.4//EN
TZID:America/New_York
X-WR-TIMEZONE:America/New_York
BEGIN:VEVENT
UID:37@pesid.com
DTSTART;TZID=America/New_York:20150917T180000
DTEND;TZID=America/New_York:20150917T203000
DTSTAMP:20150911T150631Z
URL:https://pesid.com/pesid-events/pesid-nassau-bristal-at-north-woodmere/
SUMMARY:PESID Nassau Bristal at North Woodmere
DESCRIPTION:PESID Nassau announces free clam bake at The Bristal at North W
 oodmere
CATEGORIES:PESID Nassau
LOCATION:The Bristal at North Woodmere\, 677 Hungry Harbor Rd\, North Woodm
 ere\, NY\, United States
GEO:40.6443717;-73.73168859999998
X-APPLE-STRUCTURED-LOCATION;VALUE=URI;X-ADDRESS=677 Hungry Harbor Rd\, Nort
 h Woodmere\, NY\, United States;X-APPLE-RADIUS=100;X-TITLE=The Bristal at 
 North Woodmere:geo:40.6443717,-73.73168859999998
END:VEVENT
BEGIN:VTIMEZONE
TZID:America/New_York
X-LIC-LOCATION:America/New_York
BEGIN:DAYLIGHT
DTSTART:20150308T030000
TZOFFSETFROM:-0500
TZOFFSETTO:-0400
TZNAME:EDT
END:DAYLIGHT
END:VTIMEZONE
END:VCALENDAR