BEGIN:VCALENDAR
VERSION:2.0
PRODID:-//wp-events-plugin.com//7.0.4//EN
TZID:America/New_York
X-WR-TIMEZONE:America/New_York
BEGIN:VEVENT
UID:23@pesid.com
DTSTART;TZID=America/New_York:20140227T173000
DTEND;TZID=America/New_York:20140227T193000
DTSTAMP:20140211T172640Z
URL:https://pesid.com/pesid-events/pesid-nassau-2/
SUMMARY:PESID Nassau Networking to Develop Resources for Seniors
DESCRIPTION:Atria Lynbrook and Mary Constantino have been very gracious in 
 sponsoring our Nassau County meeting.\n\n\n\n&nbsp\;\n\n&nbsp\;\n\nWe will
  enjoy a light dinner\, and network.\n\nIn addition we will have a guest s
 peaker\, Sharia Jones Bay an expert in the area meditation.  Sharia will 
 be presenting on Focus and Meditation.\n\nThis is a free event as long as 
 you register here\, otherwise it's $10 at the door.\n\nOur Corporate Spons
 or is Fort Funding Corp.  specializing in the area of Reverse and Residen
 tial Mortgages. NMLS\, 39463. 718-968-5242.\n\n&nbsp\;\n\nThank you\n\nAnn
 ette Fisher\, CSA\n\nPESID Founder\n\n347-291-7479\n\n&nbsp\;\n\n&nbsp\;
CATEGORIES:PESID Nassau
LOCATION:Atria Lynbrook\, 100 Peninsula Blvd.\, Lynbrook\, NY\, Nassau\, Un
 ited States
GEO:40.6558243;-73.6776084
X-APPLE-STRUCTURED-LOCATION;VALUE=URI;X-ADDRESS=100 Peninsula Blvd.\, Lynbr
 ook\, NY\, Nassau\, United States;X-APPLE-RADIUS=100;X-TITLE=Atria Lynbroo
 k:geo:40.6558243,-73.6776084
END:VEVENT
BEGIN:VTIMEZONE
TZID:America/New_York
X-LIC-LOCATION:America/New_York
BEGIN:STANDARD
DTSTART:20131103T010000
TZOFFSETFROM:-0400
TZOFFSETTO:-0500
TZNAME:EST
END:STANDARD
END:VTIMEZONE
END:VCALENDAR