BEGIN:VCALENDAR
VERSION:2.0
PRODID:-//wp-events-plugin.com//7.0.4//EN
TZID:America/New_York
X-WR-TIMEZONE:America/New_York
BEGIN:VEVENT
UID:30@pesid.com
DTSTART;TZID=America/New_York:20140917T180000
DTEND;TZID=America/New_York:20140917T203000
DTSTAMP:20140912T120833Z
URL:https://pesid.com/pesid-events/pesid-brooklyn/
SUMMARY:PESID Brooklyn
DESCRIPTION:PESID Brooklyn Events presents “NIGHT OUT WITH THE STARS” Y
 ou won’t want to miss this! Sponsored by: Sunrise Senior Living Mill Bas
 in. 
CATEGORIES:PESID Brooklyn
LOCATION:Sunrise Senior Living Mill Basin\, 5905 Strickland Avenue\, Brookl
 yn\, New York\, United States
GEO:40.607952;-73.91629999999998
X-APPLE-STRUCTURED-LOCATION;VALUE=URI;X-ADDRESS=5905 Strickland Avenue\, Br
 ooklyn\, New York\, United States;X-APPLE-RADIUS=100;X-TITLE=Sunrise Senio
 r Living Mill Basin:geo:40.607952,-73.91629999999998
END:VEVENT
BEGIN:VTIMEZONE
TZID:America/New_York
X-LIC-LOCATION:America/New_York
BEGIN:DAYLIGHT
DTSTART:20140309T030000
TZOFFSETFROM:-0500
TZOFFSETTO:-0400
TZNAME:EDT
END:DAYLIGHT
END:VTIMEZONE
END:VCALENDAR