BEGIN:VCALENDAR
VERSION:2.0
PRODID:-//wp-events-plugin.com//7.0.4//EN
TZID:America/New_York
X-WR-TIMEZONE:America/New_York
BEGIN:VEVENT
UID:39@pesid.com
DTSTART;TZID=America/New_York:20151106T090000
DTEND;TZID=America/New_York:20151106T120000
DTSTAMP:20151021T060820Z
URL:https://pesid.com/pesid-events/pesid-brooklyn-senior-expo-november-201
 5/
SUMMARY:PESID Brooklyn Senior Expo November 2015
DESCRIPTION:PESID Brooklyn Senior Expo November 6\, 2015
CATEGORIES:PESID Brooklyn
LOCATION:Dyker Beach Golf Course Grand Ballroom\, 1030 86th Street\, Brookl
 yn\, NY\, 11217\, United States
GEO:40.616748;-74.01838850000001
X-APPLE-STRUCTURED-LOCATION;VALUE=URI;X-ADDRESS=1030 86th Street\, Brooklyn
 \, NY\, 11217\, United States;X-APPLE-RADIUS=100;X-TITLE=Dyker Beach Golf 
 Course Grand Ballroom:geo:40.616748,-74.01838850000001
END:VEVENT
BEGIN:VTIMEZONE
TZID:America/New_York
X-LIC-LOCATION:America/New_York
BEGIN:STANDARD
DTSTART:20151101T010000
TZOFFSETFROM:-0400
TZOFFSETTO:-0500
TZNAME:EST
END:STANDARD
END:VTIMEZONE
END:VCALENDAR