BEGIN:VCALENDAR
VERSION:2.0
PRODID:-//wp-events-plugin.com//7.0.4//EN
TZID:America/New_York
X-WR-TIMEZONE:America/New_York
BEGIN:VEVENT
UID:32@pesid.com
DTSTART;TZID=America/New_York:20141114T100000
DTEND;TZID=America/New_York:20141114T120000
DTSTAMP:20141112T204526Z
URL:https://pesid.com/pesid-events/pesid-brooklyn-senior-expo-health-finan
 cial-fitness/
SUMMARY:PESID Brooklyn - Senior Expo Health & Financial Fitness
DESCRIPTION:PESID Brooklyn Senior Expo 
CATEGORIES:PESID Brooklyn
LOCATION:Dyker Beach Golf Coarse\, 1030 86 Street\, Brooklyn\, NY\, 11217\,
  United States
GEO:40.616748;-74.01838850000001
X-APPLE-STRUCTURED-LOCATION;VALUE=URI;X-ADDRESS=1030 86 Street\, Brooklyn\,
  NY\, 11217\, United States;X-APPLE-RADIUS=100;X-TITLE=Dyker Beach Golf Co
 arse:geo:40.616748,-74.01838850000001
END:VEVENT
BEGIN:VTIMEZONE
TZID:America/New_York
X-LIC-LOCATION:America/New_York
BEGIN:STANDARD
DTSTART:20141102T010000
TZOFFSETFROM:-0400
TZOFFSETTO:-0500
TZNAME:EST
END:STANDARD
END:VTIMEZONE
END:VCALENDAR