BEGIN:VCALENDAR
VERSION:2.0
PRODID:-//wp-events-plugin.com//7.0.4//EN
TZID:America/New_York
X-WR-TIMEZONE:America/New_York
BEGIN:VEVENT
UID:22@pesid.com
DTSTART;TZID=America/New_York:20140218T173000
DTEND;TZID=America/New_York:20140218T193000
DTSTAMP:20140218T184318Z
URL:https://pesid.com/pesid-events/pesid-brooklyn-networking-develop-resou
 rces-seniors/
SUMMARY:PESID Brooklyn Networking to Develop Resources for Seniors
DESCRIPTION:PESID meeting.  We have been meeting for nearly 4 years.
CATEGORIES:PESID Brooklyn
LOCATION:Cebu Bar & Bistro\, 8801 Third Avenue\, Brooklyn\, 11209\, Bay Rid
 ge\, United States
GEO:40.62186;-74.031383
X-APPLE-STRUCTURED-LOCATION;VALUE=URI;X-ADDRESS=8801 Third Avenue\, Brookly
 n\, 11209\, Bay Ridge\, United States;X-APPLE-RADIUS=100;X-TITLE=Cebu Bar 
 & Bistro:geo:40.62186,-74.031383
END:VEVENT
BEGIN:VTIMEZONE
TZID:America/New_York
X-LIC-LOCATION:America/New_York
BEGIN:STANDARD
DTSTART:20131103T010000
TZOFFSETFROM:-0400
TZOFFSETTO:-0500
TZNAME:EST
END:STANDARD
END:VTIMEZONE
END:VCALENDAR