BEGIN:VCALENDAR
VERSION:2.0
PRODID:-//wp-events-plugin.com//7.0.4//EN
TZID:America/New_York
X-WR-TIMEZONE:America/New_York
BEGIN:VEVENT
UID:18@pesid.com
DTSTART;TZID=America/New_York:20140128T173000
DTEND;TZID=America/New_York:20140128T193000
DTSTAMP:20140130T130953Z
URL:https://pesid.com/pesid-events/pesid-brooklyn-network-fun/
SUMMARY:PESID Brooklyn Network and Have Fun 
DESCRIPTION:Happy New Year PESIDs and fellow Brooklynites.\n\nSunrise Senio
 r Living of Sheepshead Bay Loves having our company.\n\nSo join us for net
 working\, fun\, appetizers and a few sips of wine.\n\nA Big Thank you to J
 eannine Valentine of Sunrise Senior Living at Sheepshead Bay\, and to Sunr
 ise for their generous hospitality.\n\n\n\n&nbsp\;\n\n&nbsp\;\n\n&nbsp\;\n
 \n&nbsp\;\n\n&nbsp\;\n\n&nbsp\;\n\n&nbsp\;\n\nThis event is FREE when you 
 register here online at pesid.com\n\nIf you forget to register online the 
 fee at the door is a $10.00 per person.\n\nThank you\n\nAnnette Fisher\, C
 SA\n\nCertified Senior Advisor\n\nPESID Founder\n\n347-291-7479
CATEGORIES:PESID Brooklyn
LOCATION:Sunrise Senior Living Sheepshead Bay\, 2211 Emmons Avenue\, Brookl
 yn\, NY\, 11235\, United States
GEO:40.58394089999999;-73.9458502
X-APPLE-STRUCTURED-LOCATION;VALUE=URI;X-ADDRESS=2211 Emmons Avenue\, Brookl
 yn\, NY\, 11235\, United States;X-APPLE-RADIUS=100;X-TITLE=Sunrise Senior 
 Living Sheepshead Bay:geo:40.58394089999999,-73.9458502
END:VEVENT
BEGIN:VTIMEZONE
TZID:America/New_York
X-LIC-LOCATION:America/New_York
BEGIN:STANDARD
DTSTART:20131103T010000
TZOFFSETFROM:-0400
TZOFFSETTO:-0500
TZNAME:EST
END:STANDARD
END:VTIMEZONE
END:VCALENDAR