BEGIN:VCALENDAR
VERSION:2.0
PRODID:-//wp-events-plugin.com//7.0.4//EN
TZID:America/New_York
X-WR-TIMEZONE:America/New_York
BEGIN:VEVENT
UID:8@pesid.com
DTSTART;TZID=America/New_York:20130917T173000
DTEND;TZID=America/New_York:20130917T193000
DTSTAMP:20131003T160526Z
URL:https://pesid.com/pesid-events/pesid-brooklyn-network-and-develop-reso
 urces-for-seniors-2/
SUMMARY:PESID Brooklyn Network and Develop Resources for Seniors
DESCRIPTION:PESID People Empowering Seniors Independence & Dignity\, Networ
 k to Develop Resources for Seniors.
CATEGORIES:PESID Brooklyn
LOCATION:Cebu Bar & Bistro\, 8801 Third Avenue\, Brooklyn\, NY\, 11209\, Un
 ited States
GEO:40.62186;-74.031383
X-APPLE-STRUCTURED-LOCATION;VALUE=URI;X-ADDRESS=8801 Third Avenue\, Brookly
 n\, NY\, 11209\, United States;X-APPLE-RADIUS=100;X-TITLE=Cebu Bar & Bistr
 o:geo:40.62186,-74.031383
END:VEVENT
BEGIN:VTIMEZONE
TZID:America/New_York
X-LIC-LOCATION:America/New_York
BEGIN:DAYLIGHT
DTSTART:20130310T030000
TZOFFSETFROM:-0500
TZOFFSETTO:-0400
TZNAME:EDT
END:DAYLIGHT
END:VTIMEZONE
END:VCALENDAR