BEGIN:VCALENDAR
VERSION:2.0
PRODID:-//wp-events-plugin.com//7.0.4//EN
TZID:America/New_York
X-WR-TIMEZONE:America/New_York
BEGIN:VEVENT
UID:36@pesid.com
DTSTART;TZID=America/New_York:20151105T100000
DTEND;TZID=America/New_York:20151105T150000
DTSTAMP:20151031T190438Z
URL:https://pesid.com/pesid-events/pesid-brooklyn-healthy-aging-expo/
SUMMARY:PESID Brooklyn Healthy Aging Expo
DESCRIPTION:PESID Brooklyn announces the 4th Annual Healthy Aging Expo bein
 g held at the Council Center for Senior Citizens.
CATEGORIES:PESID Brooklyn
LOCATION:Council Center for Senior Citizens  \,      1001 Quentin Road
  &amp\; E. 10th St. (off Coney Island Ave)\, Brooklyn\, NY\, 11223\, Unite
 d States
GEO:40.5982958;-73.96118460000002
X-APPLE-STRUCTURED-LOCATION;VALUE=URI;X-ADDRESS=     1001 Quentin Road 
 & E. 10th St. (off Coney Island Ave)\, Brooklyn\, NY\, 11223\, United Stat
 es;X-APPLE-RADIUS=100;X-TITLE=Council Center for Senior Citizens  :geo:40
 .5982958,-73.96118460000002
END:VEVENT
BEGIN:VTIMEZONE
TZID:America/New_York
X-LIC-LOCATION:America/New_York
BEGIN:STANDARD
DTSTART:20151101T010000
TZOFFSETFROM:-0400
TZOFFSETTO:-0500
TZNAME:EST
END:STANDARD
END:VTIMEZONE
END:VCALENDAR