BEGIN:VCALENDAR
VERSION:2.0
PRODID:-//wp-events-plugin.com//7.0.4//EN
TZID:America/New_York
X-WR-TIMEZONE:America/New_York
BEGIN:VEVENT
UID:34@pesid.com
DTSTART;TZID=America/New_York:20150428T173000
DTEND;TZID=America/New_York:20150428T193000
DTSTAMP:20150219T210124Z
URL:https://pesid.com/pesid-events/pesid-brooklyn-fort-funding-presentatio
 n-reverse-mortgages/
SUMMARY:PESID Brooklyn Fort Funding Presentation Reverse Mortgages
DESCRIPTION:PESID People Empowering Seniors Independence & Dignity meeting.
   Open Networking and Presentation on Reverse Mortgages a Senior Real Esta
 te Safety Net.
CATEGORIES:PESID Brooklyn
LOCATION:Cebu Bar & Bistro\, 8801 Third Avenue\, Brooklyn\, 11209\, Bay Rid
 ge\, United States
GEO:40.62186;-74.031383
X-APPLE-STRUCTURED-LOCATION;VALUE=URI;X-ADDRESS=8801 Third Avenue\, Brookly
 n\, 11209\, Bay Ridge\, United States;X-APPLE-RADIUS=100;X-TITLE=Cebu Bar 
 & Bistro:geo:40.62186,-74.031383
END:VEVENT
BEGIN:VTIMEZONE
TZID:America/New_York
X-LIC-LOCATION:America/New_York
BEGIN:DAYLIGHT
DTSTART:20150308T030000
TZOFFSETFROM:-0500
TZOFFSETTO:-0400
TZNAME:EDT
END:DAYLIGHT
END:VTIMEZONE
END:VCALENDAR