BEGIN:VCALENDAR
VERSION:2.0
PRODID:-//wp-events-plugin.com//7.0.4//EN
TZID:America/New_York
X-WR-TIMEZONE:America/New_York
BEGIN:VEVENT
UID:19@pesid.com
DTSTART;TZID=America/New_York:20140312T173000
DTEND;TZID=America/New_York:20140312T193000
DTSTAMP:20140227T193225Z
URL:https://pesid.com/pesid-events/pesid-brooklyn-celebrates-taste-sunrise
 /
SUMMARY:PESID Brooklyn Celebrates A Taste of Sunrise 
DESCRIPTION:Hello PESIDs\,\n\n\n\nThank you Jeannine Valentine and the Sunr
 ise Senior Living Staff for the wonderful hospitality you all ways show us
 .\n\n\n\nEnjoy the culinary creations of the Sunrise Signature Dining prog
 ram. Always fresh\, and tailored to our residents’ unique diets\, our da
 ily menus are something everyone looks forward to! And our dining environm
 ents encourage social interaction and nurture friendships. So while you’
 re here\, take a tour of our beautiful community\, and see the many ways i
 n which we nourish our residents.\n\nEvent Host:  Jeannine Valentine\,  
 Director of Sales\n\nI'm looking forward to the networking and tasting.\n\
 nAnnette Fisher\, CSA\n\nCertified Senior Advisor\n\nPESID Founder\n\n347-
 291-7479
CATEGORIES:PESID Brooklyn
LOCATION:Sunrise Senior Living Sheepshead Bay\, 2211 Emmons Avenue\, Brookl
 yn\, NY\, 11235\, United States
GEO:40.58394089999999;-73.9458502
X-APPLE-STRUCTURED-LOCATION;VALUE=URI;X-ADDRESS=2211 Emmons Avenue\, Brookl
 yn\, NY\, 11235\, United States;X-APPLE-RADIUS=100;X-TITLE=Sunrise Senior 
 Living Sheepshead Bay:geo:40.58394089999999,-73.9458502
END:VEVENT
BEGIN:VTIMEZONE
TZID:America/New_York
X-LIC-LOCATION:America/New_York
BEGIN:DAYLIGHT
DTSTART:20140309T030000
TZOFFSETFROM:-0500
TZOFFSETTO:-0400
TZNAME:EDT
END:DAYLIGHT
END:VTIMEZONE
END:VCALENDAR