BEGIN:VCALENDAR
VERSION:2.0
PRODID:-//wp-events-plugin.com//7.0.4//EN
TZID:America/New_York
X-WR-TIMEZONE:America/New_York
BEGIN:VEVENT
UID:28@pesid.com
DTSTART;TZID=America/New_York:20140617T173000
DTEND;TZID=America/New_York:20140617T193000
DTSTAMP:20140622T140621Z
URL:https://pesid.com/pesid-events/pesid-brooklyn-bbq-blast/
SUMMARY:PESID Brooklyn BBQ Blast
DESCRIPTION:PESID Brooklyn BBQ Blast at Sunrise Senior Living at Sheepshead
  Bay
CATEGORIES:PESID Brooklyn
LOCATION:Sunrise Assisted Living Sheepshead Bay\, 2211 Emmons Avenue\, Broo
 klyn\, NY\, 11235\, United States
GEO:40.58394089999999;-73.9458502
X-APPLE-STRUCTURED-LOCATION;VALUE=URI;X-ADDRESS=2211 Emmons Avenue\, Brookl
 yn\, NY\, 11235\, United States;X-APPLE-RADIUS=100;X-TITLE=Sunrise Assiste
 d Living Sheepshead Bay:geo:40.58394089999999,-73.9458502
END:VEVENT
BEGIN:VTIMEZONE
TZID:America/New_York
X-LIC-LOCATION:America/New_York
BEGIN:DAYLIGHT
DTSTART:20140309T030000
TZOFFSETFROM:-0500
TZOFFSETTO:-0400
TZNAME:EDT
END:DAYLIGHT
END:VTIMEZONE
END:VCALENDAR