BEGIN:VCALENDAR
VERSION:2.0
PRODID:-//wp-events-plugin.com//7.0.4//EN
TZID:America/New_York
X-WR-TIMEZONE:America/New_York
BEGIN:VEVENT
UID:62@pesid.com
DTSTART;TZID=America/New_York:20250722T120000
DTEND;TZID=America/New_York:20250722T153000
DTSTAMP:20250709T180703Z
URL:https://pesid.com/pesid-events/pesid-beach-day/
SUMMARY:PESID Beach Day
DESCRIPTION:Join PESID—Professionals Empowering Seniors Independence & Di
 gnity—for lunch by the bay and a beach stroll celebrating community\, hi
 story\, and connection.  Kennedy's Breezy Point and Rockaway Beach Unwind.
ATTACH;FMTTYPE=image/jpeg:https://pesid.com/wp-content/uploads/2025/07/07-
 09-25-flyer-for-pesid-meeting-7-22-25-kennedys-1.jpg
CATEGORIES:PESID
LOCATION:Kennedy's Breezy Point Restaurant\, 406 Bayside Ave\, Breezy Point
 \, NY\, 11697\, United States
X-APPLE-STRUCTURED-LOCATION;VALUE=URI;X-ADDRESS=406 Bayside Ave\, Breezy Po
 int\, NY\, 11697\, United States;X-APPLE-RADIUS=100;X-TITLE=Kennedy's Bree
 zy Point Restaurant:geo:0,0
END:VEVENT
BEGIN:VTIMEZONE
TZID:America/New_York
X-LIC-LOCATION:America/New_York
BEGIN:DAYLIGHT
DTSTART:20250309T030000
TZOFFSETFROM:-0500
TZOFFSETTO:-0400
TZNAME:EDT
END:DAYLIGHT
END:VTIMEZONE
END:VCALENDAR