BEGIN:VCALENDAR
VERSION:2.0
PRODID:-//wp-events-plugin.com//7.0.4//EN
TZID:America/New_York
X-WR-TIMEZONE:America/New_York
BEGIN:VEVENT
UID:11@pesid.com
DTSTART;TZID=America/New_York:20130807T163000
DTEND;TZID=America/New_York:20130807T203000
DTSTAMP:20131004T004623Z
URL:https://pesid.com/pesid-events/networking-on-the-seas/
SUMMARY:Networking On The Seas
DESCRIPTION:&nbsp\;\n\nNetworking On The Seas\n\nCosponsored by BNI Morning
  Money Makers.\n\n&nbsp\;\n\nPESID\, People Empowering Seniors Independenc
 e &amp\; Dignity\n\n&nbsp\;\n\nSunrise at Sheepshead Bay\n\n&nbsp\;\n\nLiv
 e DJ\, Hot Buffet\n\n&nbsp\;\n\nArrive Early for Parking\n\n&nbsp\;\n\nBoa
 rd is at 4:30\n\n&nbsp\;\n\nShip will leave Port at 5:00 PM\n\n&nbsp\;\n\n
 \n\n&nbsp\;\n\n\n\n\n&nbsp\;\n\n&nbsp\;\n\n&nbsp\;\n\n&nbsp\;\n\n&nbsp\;\n
 \n&nbsp\;\n\n&nbsp\;\n\n&nbsp\;\n\n&nbsp\;\n\n&nbsp\;\n\n&nbsp\;\n\n&nbsp\
 ;\n\n&nbsp\;\n\n&nbsp\;\n\n&nbsp\;\n\n&nbsp\;\n\n&nbsp\;\n\n&nbsp\;\n\n&nb
 sp\;\n\n&nbsp\;\n\n&nbsp\;\n\n&nbsp\;\n\n&nbsp\;\n\n&nbsp\;\n\nThank you\n
 \n&nbsp\;\n\nAnnette Fisher\, CSA\n\n&nbsp\;\n\nPESID Founder\n\n&nbsp\;\n
 \nPESID Corporate Sponsor\, Fort Funding Corp.  718-968-5242
CATEGORIES:PESID Brooklyn,PESID Nassau,PESID NYC,PESID Staten Island
LOCATION:Atlantis\, Emmons Avenue\, Brooklyn\, ny\, United States
GEO:40.58393;-73.93978429999999
X-APPLE-STRUCTURED-LOCATION;VALUE=URI;X-ADDRESS=Emmons Avenue\, Brooklyn\, 
 ny\, United States;X-APPLE-RADIUS=100;X-TITLE=Atlantis:geo:40.58393,-73.93
 978429999999
END:VEVENT
BEGIN:VTIMEZONE
TZID:America/New_York
X-LIC-LOCATION:America/New_York
BEGIN:DAYLIGHT
DTSTART:20130310T030000
TZOFFSETFROM:-0500
TZOFFSETTO:-0400
TZNAME:EDT
END:DAYLIGHT
END:VTIMEZONE
END:VCALENDAR