BEGIN:VCALENDAR
VERSION:2.0
PRODID:-//wp-events-plugin.com//7.0.4//EN
TZID:America/New_York
X-WR-TIMEZONE:America/New_York
BEGIN:VEVENT
UID:41@pesid.com
DTSTART;TZID=America/New_York:20170507T110000
DTEND;TZID=America/New_York:20170507T153000
DTSTAMP:20170501T170713Z
URL:https://pesid.com/pesid-events/healthy-living-expo-brooklyn/
SUMMARY:Healthy Living Expo
DESCRIPTION:Healthy Living Expo\, Brooklyn NY\nHealthy Living Expo Brooklyn
  will have many businesses and service providers available for you to meet
  with and get to know.  This is a fantastic event and one that you should
  not miss.\n\nSunday May 7th\, 2017\n\n11 A.M. - 3:30 P.M.\nHebrew Educati
 onal Society\, 9502 Seaview Avenue\, Brooklyn NY 11236\nFree Admission\n\n
 &nbsp\;\n\nPESID Founder Annette Fisher and Author of Seniors Get Your Duc
 ks In A Row\, will have a table at this event.  Annette is a Certified S
 enior Advisor\, Licensed as a Real Estate Salesperson and Mortgage Loan Or
 iginator.  She will be able to speak with you about the other authors Rob
 ert Howe\, Attorney - Dr. Marla Loughran\, Chiropractor - Mary Marony R.N.
  Implementation of Electronic Medical Records - Debra S. Gross\, Dietitian
  - Marie B. Sayour\, Managing Partner RN Staffing\, Non Medical Companion 
 Services.  There may even be the possibility of meeting some of the other
  authors at the event.\n\n&nbsp\;\n\nHaving resources at your finger tips 
 when you need them relieves so much stress.  It's nice to get to know tho
 se who represent the resources in your community before you might actually
  need them.  I look forward to seeing you all there\, Annette Fisher.\n\n
 \n\nMeet with businesses that provide products &amp\; services.\n\nHealth 
 Insurance\n\nHome Health Care\n\nLong Term Care &amp\; FIDA\n\nAssisted Li
 ving\n\nNursing &amp\; Rehabilitation\n\nPhysical Therapy\n\nFinancial &am
 p\; Estate Planning\n\nand Much More!\n\nBlood Pressure Screenings Provide
 d.\n\n&nbsp\;\n\nMake a list of questions you might have regarding service
 s you or a loved one might need. Then go in search of what is most importa
 nt to you at this type of event.  If you do not find the type of info you
  are in search of reach out to the service providers at the event.  Many 
 times they can be of help in pointing you in the direction of people who c
 an help\, with what you are looking for.\n\nIf you can't find what you are
  looking for at this event you can always reach out to PESID members for h
 elp with resources.\n\n&nbsp\;\n\nGiveaways\n\n&nbsp\;\n\nThis event is Pr
 oudly Sponsored By\n\nSenior Whole Health (R)\n\nUnited Healthcare (R)\n\n
 H.E.S.\, JCC\n\nFor more information and or to exhibit\n\nContact: Felice 
 Frost\n\nfrostbiz@aol.com\n\n718-241-3000\n\nwww.thehes.org\n\n&nbsp\;
CATEGORIES:Healthy Living Expo,PESID Brooklyn
LOCATION:Hebrew Educational Society\, 9502 Seaview Avenue\, Brooklyn\, NY\,
  11236\, Canarsie\,\, United States
GEO:40.6328402;-73.89108620000002
X-APPLE-STRUCTURED-LOCATION;VALUE=URI;X-ADDRESS=9502 Seaview Avenue\, Brook
 lyn\, NY\, 11236\, Canarsie\,\, United States;X-APPLE-RADIUS=100;X-TITLE=H
 ebrew Educational Society:geo:40.6328402,-73.89108620000002
END:VEVENT
BEGIN:VTIMEZONE
TZID:America/New_York
X-LIC-LOCATION:America/New_York
BEGIN:DAYLIGHT
DTSTART:20170312T030000
TZOFFSETFROM:-0500
TZOFFSETTO:-0400
TZNAME:EDT
END:DAYLIGHT
END:VTIMEZONE
END:VCALENDAR