BEGIN:VCALENDAR
VERSION:2.0
PRODID:-//wp-events-plugin.com//7.0.4//EN
TZID:America/New_York
X-WR-TIMEZONE:America/New_York
BEGIN:VEVENT
UID:42@pesid.com
DTSTART;TZID=America/New_York:20170506T140000
DTEND;TZID=America/New_York:20170506T160000
DTSTAMP:20170501T224823Z
URL:https://pesid.com/pesid-events/denise-p-levine-art-exhibit/
SUMMARY:Denise P Levine Art Exhibit
DESCRIPTION:Denise P Levine Art Exhibit\, Jamaica Bay Wildlife Refuge.
CATEGORIES:Art Exhibit,PESID Brooklyn
LOCATION:Jamaica Bay Wildlife Refuge\, 175-10 Cross Bay Boulevard\, Broad C
 hannel\, NY\, United States
GEO:40.6057116;-73.81986949999998
X-APPLE-STRUCTURED-LOCATION;VALUE=URI;X-ADDRESS=175-10 Cross Bay Boulevard\
 , Broad Channel\, NY\, United States;X-APPLE-RADIUS=100;X-TITLE=Jamaica Ba
 y Wildlife Refuge:geo:40.6057116,-73.81986949999998
END:VEVENT
BEGIN:VTIMEZONE
TZID:America/New_York
X-LIC-LOCATION:America/New_York
BEGIN:DAYLIGHT
DTSTART:20170312T030000
TZOFFSETFROM:-0500
TZOFFSETTO:-0400
TZNAME:EDT
END:DAYLIGHT
END:VTIMEZONE
END:VCALENDAR