BEGIN:VCALENDAR
VERSION:2.0
PRODID:-//wp-events-plugin.com//7.0.4//EN
TZID:America/New_York
X-WR-TIMEZONE:America/New_York
BEGIN:VEVENT
UID:13@pesid.com
DTSTART;TZID=America/New_York:20130423T160000
DTEND;TZID=America/New_York:20130423T200000
DTSTAMP:20131015T180407Z
URL:https://pesid.com/pesid-events/celebrate-3-year-anniversary-of-pesid/
SUMMARY:Celebrate 3 Year Anniversary of PESID
DESCRIPTION:Thanks to the Corporate Sponsors Listed below this event is fre
 e when you register at this site.  See more about the event at the bottom
  of the sponsor list.\n\n\n\n\n\n\n\n\n\n\n\n\n\nCome Join Us!\n\nPESID Pa
 ssion and IROELA Awards Ceremony.\n\nAppetizers\, Resources\, and Entertai
 nment.\n\nFree of charge when you register online at pesid.com\n\n$25.00 a
 t the door.\n\nLegendary PRENTISS MCNEIL\, formerly of the R &amp\; B grou
 p the Drifters.\n\nRichie Triolo and Gerry Dunne\, Performing Music Oldies
 \, 2-4 DA Show.\n\nAleMo Squares\, Performing to the calls.  So Where's t
 he Dance?\n\nCome Enjoy\, Be Entertained &amp\; Dance The Afternoon Away!\
 n\n&nbsp\;\n\n\n\n&nbsp\;\n\nEVENT PHOTOS:\n\n[gallery ids="437\,438\,439\
 ,440\,441\,442\,443\,444\,445\,446\,447\,448\,449\,450\,451\,452\,453\,454
 \,455\,456\,457\,458\,459\,460\,461\,462\,463\,464\,465\,466\,467\,468\,46
 9\,470\,471\,472\,473\,474\,475\,476\,477\,478\,479\,480\,481\,482\,483\,4
 84\,485\,486\,487\,488\,489\,490\,491\,492\,493\,494\,495\,496\,497\,498\,
 499\,500\,501\,502\,503\,504\,505\,506\,507\,508\,509\,510\,511\,512\,513\
 ,514\,515\,516\,517\,518\,519\,520\,521\,522\,523\,524\,525\,526\,527\,528
 \,529\,530\,531\,532\,533\,534\,535\,536\,537\,538\,539\,540\,541\,542\,54
 3\,544\,545\,546\,547\,548\,549\,550\,551"]
CATEGORIES:PESID Brooklyn
LOCATION:Saints Simon and Jude Banquet Hall\, 185 Van Sicklen Street\, \, B
 rooklyn \, NY\, United States
GEO:40.5998605;-73.9745876
X-APPLE-STRUCTURED-LOCATION;VALUE=URI;X-ADDRESS=185 Van Sicklen Street\, \,
  Brooklyn \, NY\, United States;X-APPLE-RADIUS=100;X-TITLE=Saints Simon an
 d Jude Banquet Hall:geo:40.5998605,-73.9745876
END:VEVENT
BEGIN:VTIMEZONE
TZID:America/New_York
X-LIC-LOCATION:America/New_York
BEGIN:DAYLIGHT
DTSTART:20130310T030000
TZOFFSETFROM:-0500
TZOFFSETTO:-0400
TZNAME:EDT
END:DAYLIGHT
END:VTIMEZONE
END:VCALENDAR